BEGIN:VCALENDAR
VERSION:2.0
PRODID:-//TYPO3/NONSGML News system (news)//EN
BEGIN:VEVENT
UID:news-22334251@www.dordogne.fr
DTSTAMP:20260205T083946
DTSTART:20260207T000000
DTEND:20260430T000000
SUMMARY:Le territoire révélé
CATEGORIES:Culture, Exposition
DESCRIPTION:En 2024 et 2025, huit photographes ont été accueillis en 
 résidence de création en Dordogne sur l’invitation de 
 l’Agence culturelle départementale Dordogne-Périgord et 
 de ses partenaires. L’exposition Le territoire révélé 
 ? rassemble les travaux réalisés. Chaque photographie 
 documente autant qu’elle nous invite à une lecture 
 singulière du territoire
LOCATION: ESPACE CULTUREL FRANCOIS MITTERRAND 
END:VEVENT
END:VCALENDAR